BEGIN:VCALENDAR
VERSION:2.0
PRODID:-//Flancourt-Crescy en Roumois - ECPv4.6.24.1//NONSGML v1.0//EN
CALSCALE:GREGORIAN
METHOD:PUBLISH
X-WR-CALNAME:Flancourt-Crescy en Roumois
X-ORIGINAL-URL:http://flancourt-crescy-en-roumois.fr
X-WR-CALDESC:Évènements pour Flancourt-Crescy en Roumois
BEGIN:VEVENT
DTSTART;TZID=Europe/Paris:20191116T200000
DTEND;TZID=Europe/Paris:20191116T200000
DTSTAMP:20260420T220650
CREATED:20191030T074511Z
LAST-MODIFIED:20191030T121658Z
UID:1889-1573934400-1573934400@flancourt-crescy-en-roumois.fr
SUMMARY:Repas "Couscous"
DESCRIPTION:Le comité d’animation de Bosc-Bénard-Crescy organise un repas dansant « Couscous » à la salle des fêtes de Bosc-Bénard-Crescy le 16 Novembre 2019 à 20h00. \nRepas adulte 21€\, enfant de -12 ans 11€.\n							Imprimer \n
URL:http://flancourt-crescy-en-roumois.fr/?tribe_events=repas-couscous
LOCATION:Salle Bourvil\, Salle Bourvil\, Place Roger Leclerc\, Flancourt-Crescy en Roumois\, 27310\, France
CATEGORIES:Repas
END:VEVENT
END:VCALENDAR