BEGIN:VCALENDAR
VERSION:2.0
PRODID:-//Flancourt-Crescy en Roumois - ECPv4.6.24.1//NONSGML v1.0//EN
CALSCALE:GREGORIAN
METHOD:PUBLISH
X-WR-CALNAME:Flancourt-Crescy en Roumois
X-ORIGINAL-URL:http://flancourt-crescy-en-roumois.fr
X-WR-CALDESC:Évènements pour Flancourt-Crescy en Roumois
BEGIN:VEVENT
DTSTART;TZID=Europe/Paris:20191124T100000
DTEND;TZID=Europe/Paris:20191124T180000
DTSTAMP:20260420T183322
CREATED:20191030T073047Z
LAST-MODIFIED:20191030T073047Z
UID:1883-1574589600-1574618400@flancourt-crescy-en-roumois.fr
SUMMARY:Exposition Peinture – Salon d’Hiver
DESCRIPTION:L’association ERACLES organise son salon d’Hiver le samedi 23 et Dimanche 24 Novembre à l’église d’Épreville-en-Roumois. \nInvités d’honneur Ragib PAUL et Joseph PAVIA \nEntrée libre de 10h00 à 12h00 et de 14h00 à 18h00. \n\n							Imprimer \n
URL:http://flancourt-crescy-en-roumois.fr/?tribe_events=exposition-peinture-salon-dhiver-4
LOCATION:Église Saint-Ouen d’Epreville-en-Roumois\, Centre village\, \, Hameau d'Epreville-en-Roumois\, Flancourt-Crescy en Roumois\, 27310\, France
CATEGORIES:Expo Peinture
END:VEVENT
END:VCALENDAR